BEGIN:VCALENDAR
VERSION:2.0
PRODID:-//HealthCore Clinic - ECPv6.15.20//NONSGML v1.0//EN
CALSCALE:GREGORIAN
METHOD:PUBLISH
X-WR-CALNAME:HealthCore Clinic
X-ORIGINAL-URL:https://healthcoreclinic.org/es
X-WR-CALDESC:Eventos para HealthCore Clinic
REFRESH-INTERVAL;VALUE=DURATION:PT1H
X-Robots-Tag:noindex
X-PUBLISHED-TTL:PT1H
BEGIN:VTIMEZONE
TZID:America/Chicago
BEGIN:DAYLIGHT
TZOFFSETFROM:-0600
TZOFFSETTO:-0500
TZNAME:CDT
DTSTART:20250309T080000
END:DAYLIGHT
BEGIN:STANDARD
TZOFFSETFROM:-0500
TZOFFSETTO:-0600
TZNAME:CST
DTSTART:20251102T070000
END:STANDARD
BEGIN:DAYLIGHT
TZOFFSETFROM:-0600
TZOFFSETTO:-0500
TZNAME:CDT
DTSTART:20260308T080000
END:DAYLIGHT
BEGIN:STANDARD
TZOFFSETFROM:-0500
TZOFFSETTO:-0600
TZNAME:CST
DTSTART:20261101T070000
END:STANDARD
BEGIN:DAYLIGHT
TZOFFSETFROM:-0600
TZOFFSETTO:-0500
TZNAME:CDT
DTSTART:20270314T080000
END:DAYLIGHT
BEGIN:STANDARD
TZOFFSETFROM:-0500
TZOFFSETTO:-0600
TZNAME:CST
DTSTART:20271107T070000
END:STANDARD
END:VTIMEZONE
BEGIN:VEVENT
DTSTART;TZID=America/Chicago:20260424T130000
DTEND;TZID=America/Chicago:20260424T170000
DTSTAMP:20260421T093553
CREATED:20260402T150203Z
LAST-MODIFIED:20260402T150203Z
UID:12992-1777035600-1777050000@healthcoreclinic.org
SUMMARY:HCC Mobile Clinic @ Cherry Creek Treatment Center
DESCRIPTION:HealthCore Mobile Clinic offers primary healthcare\, acute care visits\, and health screenings on Friday afternoons from 1-5 PM at Cherry Creek Treatment Center.\n\nWalk-ins are welcome. To make an appointment\, call us at 316-691-0249.\n\nHealthCore Clinic accepts most major insurances and has a sliding fee scale for the uninsured/underinsured. Pricing and Fees
URL:https://healthcoreclinic.org/es/event/hcc-mobile-clinic-cherry-creek-treatment-center-11
LOCATION:Cherry Creek Treatment Center\, 8080 E. Pawnee St.\, Wichita\, 67207\, United States
CATEGORIES:Mobile Clinic Outreach
END:VEVENT
BEGIN:VEVENT
DTSTART;TZID=America/Chicago:20260426T120000
DTEND;TZID=America/Chicago:20260426T140000
DTSTAMP:20260421T093553
CREATED:20260403T130842Z
LAST-MODIFIED:20260403T130842Z
UID:13002-1777204800-1777212000@healthcoreclinic.org
SUMMARY:Clearway Testing - Strangers Rest Baptist Church
DESCRIPTION:HealthCore Clinic\, a Clearway Testing partner\, will offer free health testing from its mobile clinic at Strangers Rest Baptist Church. Testing is for individuals who lived\, worked\, attended school or church\, or spent time near the 29th & Grove area in Northeast Wichita who may be affected by past groundwater contamination. \nLearn more: https://clearwaytesting.org/ \nHealthCore Clinic offers walk-in testing at its main clinic. For more information\, visit https://healthcoreclinic.org/clearwaytesting
URL:https://healthcoreclinic.org/es/event/clearway-testing-strangers-rest-baptist-church
LOCATION:Strangers Rest Baptist Church\, 2521 N. Grove\, Wichita\, KS\, 67219
CATEGORIES:Health Screening
END:VEVENT
BEGIN:VEVENT
DTSTART;TZID=America/Chicago:20260427T130000
DTEND;TZID=America/Chicago:20260427T170000
DTSTAMP:20260421T093553
CREATED:20260402T150120Z
LAST-MODIFIED:20260402T150120Z
UID:12990-1777294800-1777309200@healthcoreclinic.org
SUMMARY:HCC Mobile Clinic @ Second Light Shelter
DESCRIPTION:HealthCore Mobile Clinic offers primary healthcare\, acute care visits\, and health screenings on Monday afternoons from 1-5 PM at Second Light Shelter.\n\nWalk-ins are welcome. To make an appointment\, call us at 316-691-0249.\n\nHealthCore Clinic accepts most major insurances and has a sliding fee scale for the uninsured/underinsured. Pricing and Fees
URL:https://healthcoreclinic.org/es/event/hcc-mobile-clinic-second-light-shelter-12
LOCATION:Second Light Shelter\, 1025 N. Main\, Wichita\, KS\, 67203\, United States
CATEGORIES:Mobile Clinic Outreach
END:VEVENT
END:VCALENDAR